BEGIN:VCALENDAR
VERSION:2.0
PRODID:-//pockethugg.com - ECPv6.15.20//NONSGML v1.0//EN
CALSCALE:GREGORIAN
METHOD:PUBLISH
X-WR-CALNAME:pockethugg.com
X-ORIGINAL-URL:https://pockethugg.com
X-WR-CALDESC:Events for pockethugg.com
REFRESH-INTERVAL;VALUE=DURATION:PT1H
X-Robots-Tag:noindex
X-PUBLISHED-TTL:PT1H
BEGIN:VTIMEZONE
TZID:UTC
BEGIN:STANDARD
TZOFFSETFROM:+0000
TZOFFSETTO:+0000
TZNAME:UTC
DTSTART:20230101T000000
END:STANDARD
END:VTIMEZONE
BEGIN:VEVENT
DTSTART;VALUE=DATE:20240803
DTEND;VALUE=DATE:20240807
DTSTAMP:20260423T150831
CREATED:20240626T233113Z
LAST-MODIFIED:20240626T233113Z
UID:2421-1722643200-1722988799@pockethugg.com
SUMMARY:MELBOURNE GIFT FAIR
DESCRIPTION:AGHA is the organiser of Australia’s largest industry-led trade events for the retail & design sector. The Gift + home Expo in Sydney is held at Sydney Olympic Park in February and the Melbourne Gift fair at the Melbourne Convention & Exhibition Centre in August. The Gift Fairs are world-class B2B trade exhibitions connecting wholesalers with retailers\, corporate & hospitality buyers\, stylists\, designers and more. \nWhether you’re a wholesaler\, manufacturer\, retailer\, buyer new to the industry\, we provide the dedicated business services\, education\, trading opportunities and all-round support your business needs to grow \n1 Convention Centre Pl\, South Wharf VIC 3006
URL:https://pockethugg.com/event/melbourne-gift-fair/
LOCATION:Melbourne Convention Centre\, 1 Convention Centre Pl\, South Wharf\, Victoria\, 3006\, Australia
ORGANIZER;CN="AGHA":MAILTO:mailto:contact@agha.com.au
END:VEVENT
END:VCALENDAR